BEGIN:VCALENDAR
VERSION:2.0
PRODID:icalendar-ruby
CALSCALE:GREGORIAN
METHOD:PUBLISH
BEGIN:VEVENT
DTSTAMP:20260422T002706Z
UID:245-741150@crossandcrownbaptist.org
DTSTART:20260924T000000Z
DTEND:20260924T010000Z
CLASS:PUBLIC
CREATED:20260421T184520
DESCRIPTION:
LAST-MODIFIED:20260421T184520
LOCATION:
SUMMARY:Wednesday Night Prayer Service
URL;VALUE=URI:https://www.crossandcrownbaptist.org/events/wednesday-night-p
 rayer-service/2026-09-23
ATTACH;FILENAME=7.png;FMTTYPE=image/png:https://dq5pwpg1q8ru0.cloudfront.ne
 t/2025/10/19/16/53/20/def9506c-c6d0-415f-af6c-b59a4d5196e9/7.png
END:VEVENT
END:VCALENDAR
