BEGIN:VCALENDAR
VERSION:2.0
PRODID:icalendar-ruby
CALSCALE:GREGORIAN
METHOD:PUBLISH
BEGIN:VEVENT
DTSTAMP:20260425T222012Z
UID:291-758556@crossandcrownbaptist.org
DTSTART:20261025T150000Z
DTEND:20261025T160000Z
CLASS:PUBLIC
CREATED:20260425T162411
DESCRIPTION:Join Mr. and Mrs. Gatto in the auditorium for singing\, games\,
  and a wonderful Bible lesson!
LAST-MODIFIED:20260425T162411
LOCATION:Auditorium
SUMMARY:Impact Teens Sunday School
URL;VALUE=URI:https://www.crossandcrownbaptist.org/events/impact-teens-sund
 ay-school/2026-10-25
ATTACH;FILENAME=Sunday School.png;FMTTYPE=image/png:https://dq5pwpg1q8ru0.c
 loudfront.net/2025/06/09/17/19/06/b37fa798-b65d-46d9-ba7d-e092c6c124b4/Sun
 day%20School.png
END:VEVENT
END:VCALENDAR
