BEGIN:VCALENDAR
VERSION:2.0
PRODID:icalendar-ruby
CALSCALE:GREGORIAN
METHOD:PUBLISH
BEGIN:VEVENT
DTSTAMP:20260425T192649Z
UID:291-757804@crossandcrownbaptist.org
DTSTART:20261011T150000Z
DTEND:20261011T160000Z
CLASS:PUBLIC
CREATED:20260425T134214
DESCRIPTION:Join Mr. and Mrs. Gatto in the auditorium for singing\, games\,
  and a wonderful Bible lesson!
LAST-MODIFIED:20260425T134214
LOCATION:Auditorium
SUMMARY:Impact Teens Sunday School
URL;VALUE=URI:https://www.crossandcrownbaptist.org/events/impact-teens-sund
 ay-school/2026-10-11
ATTACH;FILENAME=Sunday School.png;FMTTYPE=image/png:https://dq5pwpg1q8ru0.c
 loudfront.net/2025/06/09/17/19/06/b37fa798-b65d-46d9-ba7d-e092c6c124b4/Sun
 day%20School.png
END:VEVENT
END:VCALENDAR
