BEGIN:VCALENDAR
VERSION:2.0
PRODID:icalendar-ruby
CALSCALE:GREGORIAN
METHOD:PUBLISH
BEGIN:VEVENT
DTSTAMP:20260425T150524Z
UID:291-756302@crossandcrownbaptist.org
DTSTART:20260920T150000Z
DTEND:20260920T160000Z
CLASS:PUBLIC
CREATED:20260425T082131
DESCRIPTION:Join Mr. and Mrs. Gatto in the auditorium for singing\, games\,
  and a wonderful Bible lesson!
LAST-MODIFIED:20260425T082131
LOCATION:Auditorium
SUMMARY:Impact Teens Sunday School
URL;VALUE=URI:https://www.crossandcrownbaptist.org/events/impact-teens-sund
 ay-school/2026-09-20
ATTACH;FILENAME=Sunday School.png;FMTTYPE=image/png:https://dq5pwpg1q8ru0.c
 loudfront.net/2025/06/09/17/19/06/b37fa798-b65d-46d9-ba7d-e092c6c124b4/Sun
 day%20School.png
END:VEVENT
END:VCALENDAR
